BEGIN:VCALENDAR
VERSION:2.0
PRODID:-//eventon.com NONSGML v1.0//EN
CALSCALE:GREGORIAN
METHOD:PUBLISH
BEGIN:VEVENT
UID:69e4d64c10572
DTSTAMP:20260419T131908Z
DTSTART:20260513
DTEND:20260514
LOCATION:
SUMMARY:2026 French National
DESCRIPTION:The iconic French national is in Villiers-sur-Loir for 2026. Lo
 cated in the beautiful Loire valley and a relatively short drive from chann
 el ports. More details on the following website: https://www.asso2cvclubsfr
 ance.org/nationale-2026.html\nhttps://tickets.2cvgb.co.uk/events/2026-frenc
 h-national/
URL:https://tickets.2cvgb.co.uk/events/2026-french-national/
END:VEVENT
END:VCALENDAR