BEGIN:VCALENDAR
VERSION:2.0
PRODID:-//eventon.com NONSGML v1.0//EN
CALSCALE:GREGORIAN
METHOD:PUBLISH
BEGIN:VEVENT
UID:69e4daa39ea77
DTSTAMP:20260419T133739Z
DTSTART:20260821
DTEND:20260822
LOCATION:
SUMMARY:British Motor Show
DESCRIPTION:Display your car for 1/2/3 days on the Citroen Club&#8217;s “
 award winning” stand. All A-Series models and H vans welcome in any condi
 tion from your daily drivers to full show condition with free tickets for x
  2 adults for the whole weekend! Contact Jim Gibson on 07594232602 or email
  jamesgibson602@gmail.com\nhttps://tickets.2cvgb.co.uk/events/british-motor
 -show-2/
URL:https://tickets.2cvgb.co.uk/events/british-motor-show-2/
END:VEVENT
END:VCALENDAR