BEGIN:VCALENDAR
VERSION:2.0
PRODID:-//eventon.com NONSGML v1.0//EN
CALSCALE:GREGORIAN
METHOD:PUBLISH
BEGIN:VEVENT
UID:69e4da10e6d19
DTSTAMP:20260419T133512Z
DTSTART:20260620
DTEND:20260621
LOCATION:
SUMMARY:French Car Drivers Breakfast Meeting\,  Blackbushe Airport
DESCRIPTION:South East French Car Drivers breakfast meetings\,  Blackbushe 
 Airport. GU17 9LQ. 5 mins from J4a M3. Contact Member No 602\,  Jim Gibson\
 ,  on 07594 232602 for details. Here are all the breakfast meeting dates in
  2026: Saturday 18th April Saturday 26th May Saturday 20th June Saturday 18
 th July Saturday 15th[..]\nhttps://tickets.2cvgb.co.uk/events/french-car-dr
 ivers-breakfast-meeting-blackbushe-airport-3/
URL:https://tickets.2cvgb.co.uk/events/french-car-drivers-breakfast-meeting-blackbushe-airport-3/
END:VEVENT
END:VCALENDAR