BEGIN:VCALENDAR
VERSION:2.0
PRODID:-//eventon.com NONSGML v1.0//EN
CALSCALE:GREGORIAN
METHOD:PUBLISH
BEGIN:VEVENT
UID:69e4f34097db0
DTSTAMP:20260419T152240Z
DTSTART:20260426T110000Z
DTEND:20260426T140000Z
LOCATION:
SUMMARY:HEREFORDSHIRE WYKNOTS & CITRONS AMERS – DRIVE-IT DAY
DESCRIPTION:A scenic drive to Hellens Country Home\,  Much Marcle\,  nr. Le
 dbury\,  Herefordshire\,  HR8 2LY. Starting from Newton Court\,  Newton\,  
 Leominster\,  Herefordshire HR6 0PF at 11:00. Planning to meet others en ro
 ute or at the venue. Contact: Mark on 07502 220844 or email wyeknots@outloo
 k.com.\nhttps://tickets.2cvgb.co.uk/events/herefordshire-wyknots-drive-it-d
 ay/
URL:https://tickets.2cvgb.co.uk/events/herefordshire-wyknots-drive-it-day/
END:VEVENT
END:VCALENDAR