BEGIN:VCALENDAR
VERSION:2.0
PRODID:-//eventon.com NONSGML v1.0//EN
CALSCALE:GREGORIAN
METHOD:PUBLISH
BEGIN:VEVENT
UID:69e62adc3d980
DTSTAMP:20260420T133212Z
DTSTART:20260819
DTEND:20260820
LOCATION:
SUMMARY:STAFFORDSHIRE FRENCH CLASSICS  – SUMMER DRIVE TO MYSTERY PUB
DESCRIPTION:STAFFORDSHIRE FRENCH CLASSICS  – SUMMER DRIVE TO MYSTERY PUB
 . Normal meeting cancelled. Contact: Paul\,  07712136025 / paul.tyson2701@g
 mail.com\,  or Robin\,  robinwilson58@live.com\nhttps://tickets.2cvgb.co.uk
 /events/staffordshire-french-classics-summer-drive-to-mystery-pub/
URL:https://tickets.2cvgb.co.uk/events/staffordshire-french-classics-summer-drive-to-mystery-pub/
END:VEVENT
END:VCALENDAR