BEGIN:VCALENDAR
VERSION:2.0
PRODID:-//eventon.com NONSGML v1.0//EN
CALSCALE:GREGORIAN
METHOD:PUBLISH
BEGIN:VEVENT
UID:69e5fc6e57a16
DTSTAMP:20260420T101406Z
DTSTART:20260726
DTEND:20260727
LOCATION:
SUMMARY:STAFFORDSHIRE FRENCH CLASSICS  – AUDLEM FESTIVAL
DESCRIPTION:STAFFORDSHIRE FRENCH CLASSICS  – AUDLEM FESTIVAL. Audlem Fes
 tival of Transport\,  www.audlem-aset.org. Contact: Paul\,  07712136025 / p
 aul.tyson2701@gmail.com\,  or Robin\,  robinwilson58@live.com\nhttps://tick
 ets.2cvgb.co.uk/events/staffordshire-french-classics-audlem-festival/
URL:https://tickets.2cvgb.co.uk/events/staffordshire-french-classics-audlem-festival/
END:VEVENT
END:VCALENDAR