BEGIN:VCALENDAR
VERSION:2.0
PRODID:-//eventon.com NONSGML v1.0//EN
CALSCALE:GREGORIAN
METHOD:PUBLISH
BEGIN:VEVENT
UID:69e9d743b897e
DTSTAMP:20260423T082435Z
DTSTART:20260725
DTEND:20260726
LOCATION:
SUMMARY:STAFFORDSHIRE FRENCH CLASSICS  – MEDIEVAL FESTIVAL
DESCRIPTION:Battle of Shrewsbury Medieval Festival\,  www.myshrewsbury.co.u
 k. Contact: Paul\,  07712136025 / paul.tyson2701@gmail.com\,  or Robin\,  r
 obinwilson58@live.com\nhttps://tickets.2cvgb.co.uk/events/staffordshire-fre
 nch-classics-medieval-festival/
URL:https://tickets.2cvgb.co.uk/events/staffordshire-french-classics-medieval-festival/
END:VEVENT
END:VCALENDAR