BEGIN:VCALENDAR
VERSION:2.0
PRODID:-//eventon.com NONSGML v1.0//EN
CALSCALE:GREGORIAN
METHOD:PUBLISH
BEGIN:VEVENT
UID:69e61aa8dd8c1
DTSTAMP:20260420T122304Z
DTSTART:20260426
DTEND:20260427
LOCATION:
SUMMARY:STAFFORDSHIRE FRENCH CLASSICS – DRIVE-IT DAY
DESCRIPTION:Drive to The Carding Shed\,  Washpit Mills\,  Green Lane\,  Hol
 mfirth\,  HD9 2RD. There will be two meeting points: Morrisons in Leek\,  a
 nd Sylvan Car Park Buxton\,  SK17 6BY. Bring a picnic lunch. Contact: Paul\
 ,  07712136025 / paul.tyson2701@gmail.com\,  or Robin\,  robinwilson58@live
 .com\nhttps://tickets.2cvgb.co.uk/events/staffordshitre-french-classics-dri
 ve-it-day/
URL:https://tickets.2cvgb.co.uk/events/staffordshitre-french-classics-drive-it-day/
END:VEVENT
END:VCALENDAR