BEGIN:VCALENDAR
VERSION:2.0
PRODID:-//eventon.com NONSGML v1.0//EN
CALSCALE:GREGORIAN
METHOD:PUBLISH
BEGIN:VEVENT
UID:69e5f2b9ebfd6
DTSTAMP:20260420T093241Z
DTSTART:20260925
DTEND:20260926
LOCATION:Wicks Farm Holiday Park Redlands Lane\,  West Wittering\,  Chichester\,  PO20 8QE\,  West Sussex
SUMMARY:POMPEY PUDDLEDUCKS - ANNUAL CAMP
DESCRIPTION:Wicks Farm Holiday Park\,  Redlands Lane\,  West Wittering\,  C
 hichester\,  West Sussex\,  PO20 8QE. Sheltered site with good facilities. 
 Camping pitch &amp; camper vans: £36 for 2 nights\,  £18 for 3rd night (4
 th night onwards £23.50). Price includes electric hook-up if required. Lig
 ht bollards and fridges extra\,  available from campsite office.[..]\nhttps
 ://tickets.2cvgb.co.uk/events/pompey-puddleducks-annual-camp-2/
URL:https://tickets.2cvgb.co.uk/events/pompey-puddleducks-annual-camp-2/
END:VEVENT
END:VCALENDAR