BEGIN:VCALENDAR
VERSION:2.0
PRODID:-//eventon.com NONSGML v1.0//EN
CALSCALE:GREGORIAN
METHOD:PUBLISH
BEGIN:VEVENT
UID:69e9d8bf10ccd
DTSTAMP:20260423T083055Z
DTSTART:20260426T110000Z
DTEND:20260426T150000Z
LOCATION:
SUMMARY:LE CLUB CLOUSEAU & POMPEY PUDDLEDUCKS – DRIVE-IT DAY EXCURSION
DESCRIPTION:Start: The Spade &amp; Fork Café\,  Bognor Road (A259)\,  Chic
 hester\,  West Sussex\,  PO201EG. Leave at 11:00 for scenic tour ending at 
 the Weald and Downland Living Museum\,  PO180EU\,  where there is a café. 
 Bob: 07799280940 / bobbrotherhood@gmail.com\nhttps://tickets.2cvgb.co.uk/ev
 ents/le-club-clouseau-pompey-puddleducks-drive-it-day-excursion/
URL:https://tickets.2cvgb.co.uk/events/le-club-clouseau-pompey-puddleducks-drive-it-day-excursion/
END:VEVENT
END:VCALENDAR