BEGIN:VCALENDAR
VERSION:2.0
PRODID:-//eventon.com NONSGML v1.0//EN
CALSCALE:GREGORIAN
METHOD:PUBLISH
BEGIN:VEVENT
UID:69e5f559470eb
DTSTAMP:20260420T094353Z
DTSTART:20260802
DTEND:20260803
LOCATION:
SUMMARY:CHESHIRE DRAGONS - CROSBY BEACH
DESCRIPTION:Trip to Crosby beach to see Anthony Gormley’s Another Place a
 nd eat lunch at the pop up beach cafe.\nhttps://tickets.2cvgb.co.uk/events/
 cheshire-dragons-crosby-beach/
URL:https://tickets.2cvgb.co.uk/events/cheshire-dragons-crosby-beach/
END:VEVENT
END:VCALENDAR