BEGIN:VCALENDAR
VERSION:2.0
PRODID:-//eventon.com NONSGML v1.0//EN
CALSCALE:GREGORIAN
METHOD:PUBLISH
BEGIN:VEVENT
UID:69e5f2b9f09e1
DTSTAMP:20260420T093241Z
DTSTART:20260426
DTEND:20260427
LOCATION:
SUMMARY:CHESHIRE DRAGONS - DRIVE-IT DAY
DESCRIPTION:Run out to Whittington Castle\,  Oswestry. This is a dog friend
 ly site and there are gardens to walk round as well as exploring the castle
 . There are tearooms for refreshments.\nhttps://tickets.2cvgb.co.uk/events/
 cheshire-dragons-drive-it-day/
URL:https://tickets.2cvgb.co.uk/events/cheshire-dragons-drive-it-day/
END:VEVENT
END:VCALENDAR