BEGIN:VCALENDAR
VERSION:2.0
PRODID:-//eventon.com NONSGML v1.0//EN
CALSCALE:GREGORIAN
METHOD:PUBLISH
BEGIN:VEVENT
UID:69e5f89fa94d1
DTSTAMP:20260420T095751Z
DTSTART:20260911
DTEND:20260912
LOCATION:
SUMMARY:SOUTH DOWNS ESCARGOTS - HAT CAMP
DESCRIPTION:At our usual venue near Cowfold in West Sussex. Our normal ‘l
 aid back’ camp. For more details contact: Maurice or Sue 07985 091633 (M)
  or email dixonmd47@gmail.com\nhttps://tickets.2cvgb.co.uk/events/south-dow
 ns-escargots-hat-camp-2/
URL:https://tickets.2cvgb.co.uk/events/south-downs-escargots-hat-camp-2/
END:VEVENT
END:VCALENDAR