BEGIN:VCALENDAR
VERSION:2.0
PRODID:-//eventon.com NONSGML v1.0//EN
CALSCALE:GREGORIAN
METHOD:PUBLISH
BEGIN:VEVENT
UID:69e5f2869f38c
DTSTAMP:20260420T093150Z
DTSTART:20260531T100000Z
DTEND:20260531T140000Z
LOCATION:Hanbury Hall School Road\,  Droitwich Spa\,  WR9 7EA
SUMMARY:W.A.S.P.S. (Worcestershire) - HANBURY HALL
DESCRIPTION:Visit Hanbury Hall National Trust (WR9 7EA). Free for National 
 Trust members\,  entry fee applicable for non-members. From 10am until you&
 #8217;re ready to leave. Bring a picnic if you wish. Contact: Louise or Jon
 \,  07525 096579.\nhttps://tickets.2cvgb.co.uk/events/w-a-s-p-s-worcestersh
 ire-hanbury-hall/
URL:https://tickets.2cvgb.co.uk/events/w-a-s-p-s-worcestershire-hanbury-hall/
END:VEVENT
END:VCALENDAR