BEGIN:VCALENDAR
VERSION:2.0
PRODID:-//eventon.com NONSGML v1.0//EN
CALSCALE:GREGORIAN
METHOD:PUBLISH
BEGIN:VEVENT
UID:69e5fdb4dc5e0
DTSTAMP:20260420T101932Z
DTSTART:20260913T100000Z
DTEND:20260913T140000Z
LOCATION:
SUMMARY:2CVGB Committee Meeting
DESCRIPTION:Please contact the Secretary if you wish to attend: secretary@2
 cvgb.co.uk\nhttps://tickets.2cvgb.co.uk/events/2cvgb-committee-meeting-5/
URL:https://tickets.2cvgb.co.uk/events/2cvgb-committee-meeting-5/
END:VEVENT
END:VCALENDAR