BEGIN:VCALENDAR
VERSION:2.0
PRODID:-//eventon.com NONSGML v1.0//EN
CALSCALE:GREGORIAN
METHOD:PUBLISH
BEGIN:VEVENT
UID:69e5e6102750c
DTSTAMP:20260420T083840Z
DTSTART:20260308T100000Z
DTEND:20260308T140000Z
LOCATION:
SUMMARY:2CVGB Committee Meeting
DESCRIPTION:Please contact the Secretary if you wish to attend: secretary@2
 cvgb.co.uk\nhttps://tickets.2cvgb.co.uk/events/2cvgb-committee-meeting-2/
URL:https://tickets.2cvgb.co.uk/events/2cvgb-committee-meeting-2/
END:VEVENT
END:VCALENDAR