BEGIN:VCALENDAR
VERSION:2.0
PRODID:-//eventon.com NONSGML v1.0//EN
CALSCALE:GREGORIAN
METHOD:PUBLISH
BEGIN:VEVENT
UID:69e4d71d23c1d
DTSTAMP:20260419T132237Z
DTSTART:20260821
DTEND:20260822
LOCATION:Snetterton Racing Circuit London Road\,  Norwich NR16 2JU
SUMMARY:2CV Racing: Snetterton\,  24 Hours
DESCRIPTION:Round 10 of the 2026 2CV Racing Championship\,  the legendary 2
 CV 24 hour race. Come along and experience this amazing round the clock eve
 nt. The 24 hour race begins on Saturday 22nd. For more information visit ww
 w.2cvracing.org.uk For circuit or camping enquiries please visit www.snette
 rton.co.uk Any other enquiries to Matthew[..]\nhttps://tickets.2cvgb.co.uk/
 events/2cv-snetterton-200-24-hours/
URL:https://tickets.2cvgb.co.uk/events/2cv-snetterton-200-24-hours/
END:VEVENT
END:VCALENDAR