BEGIN:VCALENDAR
VERSION:2.0
PRODID:-//eventon.com NONSGML v1.0//EN
CALSCALE:GREGORIAN
METHOD:PUBLISH
BEGIN:VEVENT
UID:69e4d6567081c
DTSTAMP:20260419T131918Z
DTSTART:20260711
DTEND:20260712
LOCATION:Knockhill Racing Circuit Saline
SUMMARY:2CV Racing: Knockhill (Fife)
DESCRIPTION:Rounds 7\,  8 and 9 of the 2026 2CV Racing Championship. 2CV ra
 cing returns to Scotland for the first time in over 25 years! Two 15 minute
  sprint races and a 90 minute endurance race. Other racing series will also
  be present over the weekend. For more information visit www.2cvracing.org.
 uk[..]\nhttps://tickets.2cvgb.co.uk/events/2cv-racing-knockhill/
URL:https://tickets.2cvgb.co.uk/events/2cv-racing-knockhill/
END:VEVENT
END:VCALENDAR