BEGIN:VCALENDAR
VERSION:2.0
PRODID:-//eventon.com NONSGML v1.0//EN
CALSCALE:GREGORIAN
METHOD:PUBLISH
BEGIN:VEVENT
UID:69e5f29a3a658
DTSTAMP:20260420T093210Z
DTSTART:20260613
DTEND:20260614
LOCATION:Silverstone Racing Circuit Towcester NN12 8TN
SUMMARY:2CV Racing: Silverstone
DESCRIPTION:Rounds 5 and 6 of the 2026 2CV Racing Championship. Two 15 minu
 te sprint races. Other racing series will also be present over the weekend.
  For more information visit www.2cvracing.org.uk For circuit or camping enq
 uiries please visit www.silverstone.co.uk Any other enquiries to Matthew Ho
 llis\,  07969 590705\,  hollis_motorsport@hotmail.com\nhttps://tickets.2cvg
 b.co.uk/events/2cv-racing-silverstone-nat/
URL:https://tickets.2cvgb.co.uk/events/2cv-racing-silverstone-nat/
END:VEVENT
END:VCALENDAR