BEGIN:VCALENDAR
VERSION:2.0
PRODID:-//eventon.com NONSGML v1.0//EN
CALSCALE:GREGORIAN
METHOD:PUBLISH
BEGIN:VEVENT
UID:69e4d5ed9a867
DTSTAMP:20260419T131733Z
DTSTART:20260523
DTEND:20260524
LOCATION:Mallory Park Church Rd
SUMMARY:2CV Racing: Mallory Park (Leicestershire)
DESCRIPTION:Rounds 3 and 4 of the 2026 2CV Racing Championship. Two 15 minu
 te sprint races. Other racing series will also be present over the weekend.
  For more information visit www.2cvracing.org.uk For circuit or camping enq
 uiries please visit www.malloryparkcircuit.com Any other enquiries to Matth
 ew Hollis\,  07969 590705\,  hollis_motorsport@hotmail.com\nhttps://tickets
 .2cvgb.co.uk/events/2cv-racing-mallory-park/
URL:https://tickets.2cvgb.co.uk/events/2cv-racing-mallory-park/
END:VEVENT
END:VCALENDAR