BEGIN:VCALENDAR
VERSION:2.0
PRODID:-//eventon.com NONSGML v1.0//EN
CALSCALE:GREGORIAN
METHOD:PUBLISH
BEGIN:VEVENT
UID:69e4d71d25cd1
DTSTAMP:20260419T132237Z
DTSTART:20260418
DTEND:20260419
LOCATION:Snetterton Racing Circuit London Road\,  Norwich NR16 2JU
SUMMARY:2CV Racing: Snetterton
DESCRIPTION:Rounds 1 and 2 of the 2026 2CV Racing Championship. Two 20 minu
 te sprint races on the 300 circuit layout &#8211; first time ever for 2CVs.
  Other racing series will also be present over the weekend. For more inform
 ation visit www.2cvracing.org.uk For circuit or camping enquiries please vi
 sit www.snetterton.co.uk Any[..]\nhttps://tickets.2cvgb.co.uk/events/2cv-ra
 cing-snetterton-300/
URL:https://tickets.2cvgb.co.uk/events/2cv-racing-snetterton-300/
END:VEVENT
END:VCALENDAR