BEGIN:VCALENDAR
VERSION:2.0
PRODID:-//eventon.com NONSGML v1.0//EN
CALSCALE:GREGORIAN
METHOD:PUBLISH
BEGIN:VEVENT
UID:69e5f2e4cf710
DTSTAMP:20260420T093324Z
DTSTART:20260524
DTEND:20260525
LOCATION:Avranches
SUMMARY:CITRONS AMERS - RAID NORMANDY & BRITTANY
DESCRIPTION:Following the success of this year&#8217;s trip to France we ar
 e planning to return in 2026. This time we plan on visiting the Normandy an
 d Brittany areas of France. Stopping near Avranches\,  we are planning a nu
 mber of days out to places such as Dinan and Fougeres. Dates are Sunday[..]
 \nhttps://tickets.2cvgb.co.uk/events/citrons-amers-raid-normandy-brittany/
URL:https://tickets.2cvgb.co.uk/events/citrons-amers-raid-normandy-brittany/
END:VEVENT
END:VCALENDAR