BEGIN:VCALENDAR
VERSION:2.0
PRODID:-//eventon.com NONSGML v1.0//EN
CALSCALE:GREGORIAN
METHOD:PUBLISH
BEGIN:VEVENT
UID:69e5f36718366
DTSTAMP:20260420T093535Z
DTSTART:20260904
DTEND:20260905
LOCATION:Hooton Lodge Farm Kilnhurst Road
SUMMARY:2CVGB National 2026
DESCRIPTION:602 Squadron are holding the 2026 National at Hooton Lodge Farm
  (S65 4TE)\,  near Rotherham. Full details are on the page dedicated to the
  2026 National.\nhttps://tickets.2cvgb.co.uk/events/2cvgb-national-2026/
URL:https://tickets.2cvgb.co.uk/events/2cvgb-national-2026/
END:VEVENT
END:VCALENDAR