BEGIN:VCALENDAR
VERSION:2.0
PRODID:-//eventon.com NONSGML v1.0//EN
CALSCALE:GREGORIAN
METHOD:PUBLISH
BEGIN:VEVENT
UID:69e5e2c011c5b
DTSTAMP:20260420T082432Z
DTSTART:20260814
DTEND:20260815
LOCATION:Martin&#039;s Park
SUMMARY:SOUWESCARGOTS - DARTMOOR CAMP
DESCRIPTION:Back to basics camp old school 2CV camp: fun filled relaxing we
 ekend including run out &amp; BBQ on Saturday. Camping available from Thurs
 day to Monday available at Martins Park\,  Whiddon Down\,  EX20 2QL. There 
 will be a Devon flag outside. Dogs allowed\,  but to be kept on leads at al
 l[..]\nhttps://tickets.2cvgb.co.uk/events/souwescargots-dartmoor-camp/
URL:https://tickets.2cvgb.co.uk/events/souwescargots-dartmoor-camp/
END:VEVENT
END:VCALENDAR