BEGIN:VCALENDAR
VERSION:2.0
PRODID:-//eventon.com NONSGML v1.0//EN
CALSCALE:GREGORIAN
METHOD:PUBLISH
BEGIN:VEVENT
UID:69e5f31197de0
DTSTAMP:20260420T093409Z
DTSTART:20260307
DTEND:20260308
LOCATION:
SUMMARY:2CV Ecosse – 8th Auld Alliance Rugby Run
DESCRIPTION:The 8th Auld Alliance Rugby Run through Edinburgh to celebrate 
 the France v Scotland in the Six Nations Championship at Murrayfield stadiu
 m. Match Kicks Off at 2.10pm but you don’t need to be going to the match
  to take part. Just a fun drive through the streets of Edinburgh as the[..]
 \nhttps://tickets.2cvgb.co.uk/events/2cv-ecosse-8th-auld-alliance-rugby-run
 /
URL:https://tickets.2cvgb.co.uk/events/2cv-ecosse-8th-auld-alliance-rugby-run/
END:VEVENT
END:VCALENDAR