BEGIN:VCALENDAR
VERSION:2.0
PRODID:-//eventon.com NONSGML v1.0//EN
CALSCALE:GREGORIAN
METHOD:PUBLISH
BEGIN:VEVENT
UID:69e4da943dd92
DTSTAMP:20260419T133724Z
DTSTART:20260517
DTEND:20260518
LOCATION:Great British Car Journey Derwent Works
SUMMARY:French Cars @ Great British Car Journey
DESCRIPTION:Derwent WorksAmbergateDerbyshire DE56 2HE\nhttps://tickets.2cvg
 b.co.uk/events/french-cars-great-british-car-journey/
URL:https://tickets.2cvgb.co.uk/events/french-cars-great-british-car-journey/
END:VEVENT
END:VCALENDAR