BEGIN:VCALENDAR
VERSION:2.0
PRODID:-//eventon.com NONSGML v1.0//EN
CALSCALE:GREGORIAN
METHOD:PUBLISH
BEGIN:VEVENT
UID:69e4d9e5e8e75
DTSTAMP:20260419T133429Z
DTSTART:20260508T120000Z
DTEND:20260510T120000Z
LOCATION:Pilling Village Hall Taylor's Lane\,  Pilling PR3 6AB
SUMMARY:CITROEN CAR CLUB NORTHERN RALLY
DESCRIPTION:All 2CVGB members welcome to this family friendly event. This p
 romises to be our biggest and best Northern rally yet &#8211; at an excitin
 g new venue. Evening entertainment Licenced bar Excellent on-site cafe Trad
 e and autojumble stands Family activities for parents and children Giant te
 ddy bear hunt Citroen dream rides[..]\nhttps://tickets.2cvgb.co.uk/events/c
 itroen-car-club-northern-rally/
URL:https://tickets.2cvgb.co.uk/events/citroen-car-club-northern-rally/
END:VEVENT
END:VCALENDAR