BEGIN:VCALENDAR
VERSION:2.0
PRODID:-//eventon.com NONSGML v1.0//EN
CALSCALE:GREGORIAN
METHOD:PUBLISH
BEGIN:VEVENT
UID:69e5f30778904
DTSTAMP:20260420T093359Z
DTSTART:20251230T103000Z
DTEND:20251230T160000Z
LOCATION:Warminster Services Bath Road
SUMMARY:BATH TUB CLUB - RAID IMBER
DESCRIPTION:Gather at Warminster Services\,  BA12 7RU\,  from 9am for a 10:
 30 depart. Contact Gary Dicks 07888 998776 or email tandyane@aol.com\nhttps
 ://tickets.2cvgb.co.uk/events/bath-tub-club-raid-imber-2/
URL:https://tickets.2cvgb.co.uk/events/bath-tub-club-raid-imber-2/
END:VEVENT
END:VCALENDAR