BEGIN:VCALENDAR
VERSION:2.0
PRODID:-//eventon.com NONSGML v1.0//EN
CALSCALE:GREGORIAN
METHOD:PUBLISH
BEGIN:VEVENT
UID:69e5e2c0da3f0
DTSTAMP:20260420T082432Z
DTSTART:20250919T120000Z
DTEND:20250922T110000Z
LOCATION:Apple Orchard Caravan and Camping Site Whitehouse Farm\,  Adsett\,  Westbury on Severn\,  Gloucestershire GL14 1PH
SUMMARY:REGISTERS 2025
DESCRIPTION:TICKETS NOW ON SALE> SCROLL DOWN THE PAGE FOR TICKET OPTIONS Re
 gisters 2025 will take place at Apple Orchard Caravan and Camping Site\,  W
 hitehouse Farm\,  Adsett\,  Westbury on Severn\,  Gloucestershire GL14 1PH 
 Come and meet Dennis the site donkey and his friends. Sample the cider made
  from apples from their[..]\nhttps://tickets.2cvgb.co.uk/events/registers-2
 025/
URL:https://tickets.2cvgb.co.uk/events/registers-2025/
END:VEVENT
END:VCALENDAR