BEGIN:VCALENDAR
VERSION:2.0
PRODID:-//eventon.com NONSGML v1.0//EN
CALSCALE:GREGORIAN
METHOD:PUBLISH
BEGIN:VEVENT
UID:69e5e2b427044
DTSTAMP:20260420T082420Z
DTSTART:20250504T000000Z
DTEND:20250504T000000Z
LOCATION:Vliegveld Twenthe Enschede Vliegveldweg 345 Enschede 7524PT
SUMMARY:4th Citro-Classica
DESCRIPTION:The Netherlands’ largest Citroen-focussed classic car show. h
 ttps://en.citro-classica.nl in Enschede\,  Vliegveldweg 345\,  follow the s
 igns from exit 33 of the A1motorway. E-mail: citroclassica@gmail.com\nhttps
 ://tickets.2cvgb.co.uk/events/4th-citro-classica/
URL:https://tickets.2cvgb.co.uk/events/4th-citro-classica/
END:VEVENT
END:VCALENDAR