BEGIN:VCALENDAR
VERSION:2.0
PRODID:-//eventon.com NONSGML v1.0//EN
CALSCALE:GREGORIAN
METHOD:PUBLISH
BEGIN:VEVENT
UID:69e5f60086a27
DTSTAMP:20260420T094640Z
DTSTART:20250409T000000Z
DTEND:20250413T000000Z
LOCATION:Gruga Exhibition Centre\,  Hall 6 https://www.bing.com/maps?&mepi=101~~Unknown~Address_Link&ty=18&q=GrugaparkEssen&ss=ypid.YN6740x4328880892733491805&ppois=51.43067932128906_6.996291160583496_GrugaparkEssen_YN6740x4328880892733491805~&cp=51.430679~6.996291&v=2&sV=1&FORM=MPSRPL
SUMMARY:35th Techno Classica (with Citroen road)
DESCRIPTION:World Show for Vintage\,  Classic &amp; Prestige Automobiles\, 
  Future Classics\,  Motor Sport\,  Classic Tuning\,  Motorcycles\,  Spare P
 arts\,  Restoration and World Club Meeting Please visit https://technoclass
 ica.de/visitor-information for details and opening times\nhttps://tickets.2
 cvgb.co.uk/events/35th-techno-classica-with-citroen-road/
URL:https://tickets.2cvgb.co.uk/events/35th-techno-classica-with-citroen-road/
END:VEVENT
END:VCALENDAR