BEGIN:VCALENDAR
VERSION:2.0
PRODID:-//eventon.com NONSGML v1.0//EN
CALSCALE:GREGORIAN
METHOD:PUBLISH
BEGIN:VEVENT
UID:69e5f57b39cb5
DTSTAMP:20260420T094427Z
DTSTART:20260827
DTEND:20260828
LOCATION:Wookey
SUMMARY:NSTS 2CV - SOMERSET CAMP 2026
DESCRIPTION:Enjoy a relaxing weekend with fellow 2cvers On a campsite nr We
 lls\,  Somerset&nbsp; Camping available Thursday to Tuesday&nbsp; Flat mown
  grass\,  toilets and hot showers&nbsp; Washing up area with hot water&nbsp
 ; Walking distance of pubs serving food&nbsp; Village shop and cafe&nbsp; V
 iew from site across the levels to Glastonbury Tor[..]\nhttps://tickets.2cv
 gb.co.uk/events/nsts-somerset-camp-2026/
URL:https://tickets.2cvgb.co.uk/events/nsts-somerset-camp-2026/
END:VEVENT
END:VCALENDAR