BEGIN:VCALENDAR
VERSION:2.0
PRODID:-//eventon.com NONSGML v1.0//EN
CALSCALE:GREGORIAN
METHOD:PUBLISH
BEGIN:VEVENT
UID:69e9d854cd765
DTSTAMP:20260423T082908Z
DTSTART:20250405T090000Z
DTEND:20250405T170000Z
LOCATION:Kyle of Lochalsh Village IV40 8AH
SUMMARY:2CV HIGHLAND: RAID WESTER ROSS
DESCRIPTION:New Raid for 2025! 180 miles We will start in the village of Ky
 le of Lochalsh on the north west coast of Scotland\,  head over to Applecro
 ss via the historic and winding mountain pass “Bealach na Bà” continui
 ng along the northwest coast through Torridon\,  Gairloch\,  Aultbea\,  Dun
 donnell and eventually back[..]\nhttps://tickets.2cvgb.co.uk/events/2cv-hig
 hland-raid-wester-ross/
URL:https://tickets.2cvgb.co.uk/events/2cv-highland-raid-wester-ross/
END:VEVENT
END:VCALENDAR