BEGIN:VCALENDAR
VERSION:2.0
PRODID:-//eventon.com NONSGML v1.0//EN
CALSCALE:GREGORIAN
METHOD:PUBLISH
BEGIN:VEVENT
UID:69e5e2b41ddea
DTSTAMP:20260420T082420Z
DTSTART:20241212T193000Z
DTEND:20241212T230000Z
LOCATION:The Plough Inn Shearburn Terrace\,  Snaith\,  East Yorkshire DN14 9JJ
SUMMARY:TROY: CHRISTMAS PIE AND MASH SUPPER
DESCRIPTION:The Plough Inn\,  Shearburn Terrace\,  Snaith\,  East Yorkshire
  DN14 9JJ from 19.30. A hearty pie and mash style meal for fifteen quid! Ve
 getarian and vegan option available. Limited numbers. For full details plea
 se contact David Eden on 01405 813640 or davideden1951@gmail.com\nhttps://t
 ickets.2cvgb.co.uk/events/troy-christmas-pie-and-pea-supper/
URL:https://tickets.2cvgb.co.uk/events/troy-christmas-pie-and-pea-supper/
END:VEVENT
END:VCALENDAR