BEGIN:VCALENDAR
VERSION:2.0
PRODID:-//eventon.com NONSGML v1.0//EN
CALSCALE:GREGORIAN
METHOD:PUBLISH
BEGIN:VEVENT
UID:69e5f7f563803
DTSTAMP:20260420T095501Z
DTSTART:20250105T083000Z
DTEND:20250105T150000Z
LOCATION:Tan Hill Inn Penine Way\,  Richmond DL11 6ED
SUMMARY:RAID TAN HILL
DESCRIPTION:CANCELLED DUE TO BAD WEATHER Due to limited organisational aspe
 cts this will be a stripped back event but will still retain the essential 
 elements of the raid. We will provide aleaflet outlining the route and a st
 icker for those reaching Tan Hill Please notify us via the 2CV Club Leeds[.
 .]\nhttps://tickets.2cvgb.co.uk/events/raid-tan-hill/
URL:https://tickets.2cvgb.co.uk/events/raid-tan-hill/
END:VEVENT
END:VCALENDAR