BEGIN:VCALENDAR
VERSION:2.0
PRODID:-//eventon.com NONSGML v1.0//EN
CALSCALE:GREGORIAN
METHOD:PUBLISH
BEGIN:VEVENT
UID:69e5fbde060d6
DTSTAMP:20260420T101142Z
DTSTART:20240815T120000Z
DTEND:20240818T170000Z
LOCATION:
SUMMARY:Gathering at the Bessotte Barn\,  France
DESCRIPTION:Info and registration: Tel.: +33 (0)6 29 63 01 68\, e-mail: flo
 rent.patenotte@orange.fr\nhttps://tickets.2cvgb.co.uk/events/gathering-at-t
 he-bessotte-barn-france/
URL:https://tickets.2cvgb.co.uk/events/gathering-at-the-bessotte-barn-france/
END:VEVENT
END:VCALENDAR