BEGIN:VCALENDAR
VERSION:2.0
PRODID:-//eventon.com NONSGML v1.0//EN
CALSCALE:GREGORIAN
METHOD:PUBLISH
BEGIN:VEVENT
UID:69e619eeaa3fb
DTSTAMP:20260420T121958Z
DTSTART:20240803T090000Z
DTEND:20240831T170000Z
LOCATION:
SUMMARY:Raid Australia 2024
DESCRIPTION:Info: http://raidaustralia.com/raid-2024/\nhttps://tickets.2cvg
 b.co.uk/events/raid-australia-2024/
URL:https://tickets.2cvgb.co.uk/events/raid-australia-2024/
END:VEVENT
END:VCALENDAR