BEGIN:VCALENDAR
VERSION:2.0
PRODID:-//eventon.com NONSGML v1.0//EN
CALSCALE:GREGORIAN
METHOD:PUBLISH
BEGIN:VEVENT
UID:69e5fd668998b
DTSTAMP:20260420T101814Z
DTSTART:20240515T124400Z
DTEND:20240515T124400Z
LOCATION:
SUMMARY:Toujours Vivant\,  Toujours Debout\,  Luxembourg
DESCRIPTION:Toujours vivant\,  Toujours debout &#8211; 2CV meeting of the 2
 CV Club Devil DucksLetzebuerg: Fri 26 July from 15h!\,  Rue du Village\,  9
 576 Wiltz/Weidingen\, Luxembourg. Available are: Idyllic. Location in the L
 uxembourg Ardennes\, showers\,  toilets\,  scullery\,  campfire\,  wifi\,  
 convoy to the 10th DET\,  Gedern.\nhttps://tickets.2cvgb.co.uk/events/toujo
 urs-vivant-toujours-debout-luxembourg/
URL:https://tickets.2cvgb.co.uk/events/toujours-vivant-toujours-debout-luxembourg/
END:VEVENT
END:VCALENDAR