BEGIN:VCALENDAR
VERSION:2.0
PRODID:-//eventon.com NONSGML v1.0//EN
CALSCALE:GREGORIAN
METHOD:PUBLISH
BEGIN:VEVENT
UID:69e5f37fc49fb
DTSTAMP:20260420T093559Z
DTSTART:20240515T123200Z
DTEND:20240515T123200Z
LOCATION:
SUMMARY:49th Gaeutreffen\,  Germany
DESCRIPTION:49th Gaeutreffen in Sulz am Eck\,  Lindachweg. Guinness on tap 
 (bring your ownmugs)\,  fresh coffee / espresso\,  beer and cold drinks. In
 fo: Bitze 07950/9699724\, bitze@ccrr.de; Guenne +4917647797530. guenne@t-on
 line.de. ! Arrival from Fri12.7.\nhttps://tickets.2cvgb.co.uk/events/49th-g
 aeutreffen-germany/
URL:https://tickets.2cvgb.co.uk/events/49th-gaeutreffen-germany/
END:VEVENT
END:VCALENDAR