BEGIN:VCALENDAR
VERSION:2.0
PRODID:-//eventon.com NONSGML v1.0//EN
CALSCALE:GREGORIAN
METHOD:PUBLISH
BEGIN:VEVENT
UID:69e5f3b2183e7
DTSTAMP:20260420T093650Z
DTSTART:20240607T090000Z
DTEND:20240609T170000Z
LOCATION:
SUMMARY:Attila Meeting\,  Germany
DESCRIPTION:18th Attila meeting of the Freiburger Dreisamenten\,  Niederrim
 singen on the Attilarock. Info: quax@dreisamenten.info\nhttps://tickets.2cv
 gb.co.uk/events/attila-meeting/
URL:https://tickets.2cvgb.co.uk/events/attila-meeting/
END:VEVENT
END:VCALENDAR