BEGIN:VCALENDAR
VERSION:2.0
PRODID:-//eventon.com NONSGML v1.0//EN
CALSCALE:GREGORIAN
METHOD:PUBLISH
BEGIN:VEVENT
UID:69e5e2d50d78c
DTSTAMP:20260420T082453Z
DTSTART:20240622T080000Z
DTEND:20240623T180000Z
LOCATION:Thruxton Circuit
SUMMARY:THRUXTON HISTORIC RACING - 2CVGB and POMPEY PUDDLEDUCKS
DESCRIPTION:Once again we are organising a track side stand at this classic
  car racing event near Andover\,  Hants. Discounted car club tickets are av
 ailable at https://thruxtonracing.co.uk/th-car-club-2024. Discount code 2CV
 GB245TH. Single day is £15 &amp; £28 for the weekend including camping\, 
  if required.&#8221;\nhttps://tickets.2cvgb.co.uk/events/thruxton-historic-
 racing-2cvgb-and-pompey-puddleducks/
URL:https://tickets.2cvgb.co.uk/events/thruxton-historic-racing-2cvgb-and-pompey-puddleducks/
END:VEVENT
END:VCALENDAR