BEGIN:VCALENDAR
VERSION:2.0
PRODID:-//eventon.com NONSGML v1.0//EN
CALSCALE:GREGORIAN
METHOD:PUBLISH
BEGIN:VEVENT
UID:69e5e65ddfedd
DTSTAMP:20260420T083957Z
DTSTART:20240823T090000Z
DTEND:20240825T180000Z
LOCATION:Snetterton Racing Circuit London Road\,  Norwich NR16 2JU
SUMMARY:Snetterton (Norfolk) (24 Hour Race)
DESCRIPTION:Round 7 of the 2024 2CVParts.com Championship\,  the legendary 
 2CV 24 hour race. Come along and experience this amazing round the clock ev
 ent\,  as 2CVs battle it out with the equally impressive Mini Grands. The 2
 4 hour race begins on Saturday 24th\nhttps://tickets.2cvgb.co.uk/events/sne
 tterton-norfolk-24-hour-race/
URL:https://tickets.2cvgb.co.uk/events/snetterton-norfolk-24-hour-race/
END:VEVENT
END:VCALENDAR