BEGIN:VCALENDAR
VERSION:2.0
PRODID:-//eventon.com NONSGML v1.0//EN
CALSCALE:GREGORIAN
METHOD:PUBLISH
BEGIN:VEVENT
UID:69e9eaf8693f6
DTSTAMP:20260423T094840Z
DTSTART:20240508T090000Z
DTEND:20240512T170000Z
LOCATION:Brazey en Plaine\,  Dijon
SUMMARY:29th National meeting of 2CV Clubs of France
DESCRIPTION:Organised by Deuch en Brazey the 29th French National meeting w
 ill take place in Brazey en Plaine\,  Burgundy. For more details visit&nbsp
 ;https://deuchenbrazey.asso-web.com\nhttps://tickets.2cvgb.co.uk/events/29t
 h-national-meeting-of-2cv-clubs-of-france/
URL:https://tickets.2cvgb.co.uk/events/29th-national-meeting-of-2cv-clubs-of-france/
END:VEVENT
END:VCALENDAR