BEGIN:VCALENDAR
VERSION:2.0
PRODID:-//eventon.com NONSGML v1.0//EN
CALSCALE:GREGORIAN
METHOD:PUBLISH
BEGIN:VEVENT
UID:69eceb7f0e703
DTSTAMP:20260425T162743Z
DTSTART:20240822T120000Z
DTEND:20240827T140000Z
LOCATION:
SUMMARY:NSTS Camp
DESCRIPTION:For 2024 the NSTS Somerset Camp will be over the Bank Holiday w
 eekend in August\,  on a site near Wells with views across Glastonbury Tor.
  From next year this camp will revert to the May Spring Bank Holiday. It is
  open to all 2CVGB members (not essential to come in[..]\nhttps://tickets.2
 cvgb.co.uk/events/nsts-camp/
URL:https://tickets.2cvgb.co.uk/events/nsts-camp/
END:VEVENT
END:VCALENDAR