BEGIN:VCALENDAR
VERSION:2.0
PRODID:-//eventon.com NONSGML v1.0//EN
CALSCALE:GREGORIAN
METHOD:PUBLISH
BEGIN:VEVENT
UID:69e5f3a4aa0dc
DTSTAMP:20260420T093636Z
DTSTART:20240509T120000Z
DTEND:20240512T160000Z
LOCATION:Breighton ferry Inn Breighton\,  Howden\,  East Yorkshire\,  YO8 6DH
SUMMARY:Breighton Riverside Camp – TROY
DESCRIPTION:Four days of relaxed camping at a camp site on the banks of the
  river Derwent near historic&nbsp;Howden. Riverside pitches\,  toilets\,  s
 hower block\,  play area\,  and the Breighton Ferry Inn\,  all on site -for
  just over a&nbsp;tenner per unit ! &nbsp;Booking essential – Details fro
 m David Eden on 01405 813640[..]\nhttps://tickets.2cvgb.co.uk/events/breigh
 ton-riverside-camp-troy/
URL:https://tickets.2cvgb.co.uk/events/breighton-riverside-camp-troy/
END:VEVENT
END:VCALENDAR