BEGIN:VCALENDAR
VERSION:2.0
PRODID:-//eventon.com NONSGML v1.0//EN
CALSCALE:GREGORIAN
METHOD:PUBLISH
BEGIN:VEVENT
UID:69e9f0a993e1b
DTSTAMP:20260423T101257Z
DTSTART:20240421T090000Z
DTEND:20240421T160000Z
LOCATION:
SUMMARY:Drive-it Day – Gloucester Lemons\,  W.A.S.P.S and the Wye Knot
DESCRIPTION:Each group will meet at their respective venues and drive out t
 o Castlemorton Common. For more details please contact the local leader or 
 see the local group’s Facebook page.\nhttps://tickets.2cvgb.co.uk/event
 s/drive-it-day-gloucester-lemons-w-a-s-p-s-and-the-wye-knot/
URL:https://tickets.2cvgb.co.uk/events/drive-it-day-gloucester-lemons-w-a-s-p-s-and-the-wye-knot/
END:VEVENT
END:VCALENDAR